BEGIN:VCALENDAR
VERSION:2.0
PRODID:-//Rosebank Sunday Market - Rosebank Mall Rooftop Market Johannesburg - ECPv6.15.20//NONSGML v1.0//EN
CALSCALE:GREGORIAN
METHOD:PUBLISH
X-ORIGINAL-URL:http://www.rosebanksundaymarket.co.za
X-WR-CALDESC:Events for Rosebank Sunday Market - Rosebank Mall Rooftop Market Johannesburg
REFRESH-INTERVAL;VALUE=DURATION:PT1H
X-Robots-Tag:noindex
X-PUBLISHED-TTL:PT1H
BEGIN:VTIMEZONE
TZID:Europe/Helsinki
BEGIN:DAYLIGHT
TZOFFSETFROM:+0200
TZOFFSETTO:+0300
TZNAME:EEST
DTSTART:20190331T010000
END:DAYLIGHT
BEGIN:STANDARD
TZOFFSETFROM:+0300
TZOFFSETTO:+0200
TZNAME:EET
DTSTART:20191027T010000
END:STANDARD
BEGIN:DAYLIGHT
TZOFFSETFROM:+0200
TZOFFSETTO:+0300
TZNAME:EEST
DTSTART:20200329T010000
END:DAYLIGHT
BEGIN:STANDARD
TZOFFSETFROM:+0300
TZOFFSETTO:+0200
TZNAME:EET
DTSTART:20201025T010000
END:STANDARD
BEGIN:DAYLIGHT
TZOFFSETFROM:+0200
TZOFFSETTO:+0300
TZNAME:EEST
DTSTART:20210328T010000
END:DAYLIGHT
BEGIN:STANDARD
TZOFFSETFROM:+0300
TZOFFSETTO:+0200
TZNAME:EET
DTSTART:20211031T010000
END:STANDARD
BEGIN:DAYLIGHT
TZOFFSETFROM:+0200
TZOFFSETTO:+0300
TZNAME:EEST
DTSTART:20220327T010000
END:DAYLIGHT
BEGIN:STANDARD
TZOFFSETFROM:+0300
TZOFFSETTO:+0200
TZNAME:EET
DTSTART:20221030T010000
END:STANDARD
END:VTIMEZONE
BEGIN:VEVENT
DTSTART;TZID=Europe/Helsinki:20210110T090000
DTEND;TZID=Europe/Helsinki:20210110T160000
DTSTAMP:20260424T080324
CREATED:20201203T054508Z
LAST-MODIFIED:20201203T054740Z
UID:2562-1610269200-1610294400@www.rosebanksundaymarket.co.za
SUMMARY:First Sunday Market for 2021
DESCRIPTION:Rosebank Sunday Market is open and we invite you to wander around the treasures that our vendors have carefully selected\, to make available to you.\nFresh produce; new\, previously loved and vintage clothing; gifts; antiques; jewellery; children’s toys plus so much more.\nWe also have a car boot sale every 3 and 4th Sunday of the month.\nCovid precautions in place.\nRemember to wear your mask.
URL:http://www.rosebanksundaymarket.co.za/events/first-sunday-market-for-2021/
LOCATION:Rosebank Sunday Market\, 29 Oxford Rd\, Rosebank\, \, Johannesburg\, Gauteng\, 2196\, South Africa
END:VEVENT
BEGIN:VEVENT
DTSTART;TZID=Europe/Helsinki:20201220T090000
DTEND;TZID=Europe/Helsinki:20201220T160000
DTSTAMP:20260424T080324
CREATED:20201203T054355Z
LAST-MODIFIED:20201203T054718Z
UID:2560-1608454800-1608480000@www.rosebanksundaymarket.co.za
SUMMARY:Final 2020 Rosebank Sunday Market
DESCRIPTION:Rosebank Sunday Market is open and we invite you to wander around the treasures that our vendors have carefully selected\, to make available to you.\nFresh produce; new\, previously loved and vintage clothing; gifts; antiques; jewellery; children’s toys plus so much more.\nWe also have a car boot sale every 3 and 4th Sunday of the month.\nCovid precautions in place.\nRemember to wear your mask.
URL:http://www.rosebanksundaymarket.co.za/events/final-2020-rosebank-sunday-market/
LOCATION:Rosebank Sunday Market\, 29 Oxford Rd\, Rosebank\, \, Johannesburg\, Gauteng\, 2196\, South Africa
END:VEVENT
BEGIN:VEVENT
DTSTART;TZID=Europe/Helsinki:20201213T090000
DTEND;TZID=Europe/Helsinki:20201213T160000
DTSTAMP:20260424T080324
CREATED:20201203T054256Z
LAST-MODIFIED:20201203T054701Z
UID:2558-1607850000-1607875200@www.rosebanksundaymarket.co.za
SUMMARY:Sunday Market
DESCRIPTION:Rosebank Sunday Market is open and we invite you to wander around the treasures that our vendors have carefully selected\, to make available to you.\nFresh produce; new\, previously loved and vintage clothing; gifts; antiques; jewellery; children’s toys plus so much more.\nWe also have a car boot sale every 3 and 4th Sunday of the month.\nCovid precautions in place.\nRemember to wear your mask.
URL:http://www.rosebanksundaymarket.co.za/events/sunday-market/
LOCATION:Rosebank Sunday Market\, 29 Oxford Rd\, Rosebank\, \, Johannesburg\, Gauteng\, 2196\, South Africa
END:VEVENT
BEGIN:VEVENT
DTSTART;TZID=Europe/Helsinki:20201206T090000
DTEND;TZID=Europe/Helsinki:20201206T160000
DTSTAMP:20260424T080324
CREATED:20200824T102425Z
LAST-MODIFIED:20201119T122403Z
UID:2185-1607245200-1607270400@www.rosebanksundaymarket.co.za
SUMMARY:Bespoke Christmas Market and Kiddies Entertainment
DESCRIPTION:
URL:http://www.rosebanksundaymarket.co.za/events/rosebank-sunday-market-28/
LOCATION:Rosebank Sunday Market\, 29 Oxford Rd\, Rosebank\, \, Johannesburg\, Gauteng\, 2196\, South Africa
END:VEVENT
BEGIN:VEVENT
DTSTART;TZID=Europe/Helsinki:20201129T090000
DTEND;TZID=Europe/Helsinki:20201129T160000
DTSTAMP:20260424T080324
CREATED:20200803T082121Z
LAST-MODIFIED:20201119T122331Z
UID:2135-1606640400-1606665600@www.rosebanksundaymarket.co.za
SUMMARY:Car Boot Sale
DESCRIPTION:
URL:http://www.rosebanksundaymarket.co.za/events/rosebank-sunday-market-17/
LOCATION:Gauteng
END:VEVENT
BEGIN:VEVENT
DTSTART;TZID=Europe/Helsinki:20201122T090000
DTEND;TZID=Europe/Helsinki:20201122T160000
DTSTAMP:20260424T080324
CREATED:20200824T101223Z
LAST-MODIFIED:20201119T122256Z
UID:2183-1606035600-1606060800@www.rosebanksundaymarket.co.za
SUMMARY:Car Boot Sale
DESCRIPTION:
URL:http://www.rosebanksundaymarket.co.za/events/rosebank-sunday-market-27/
LOCATION:Rosebank Sunday Market\, 29 Oxford Rd\, Rosebank\, \, Johannesburg\, Gauteng\, 2196\, South Africa
END:VEVENT
BEGIN:VEVENT
DTSTART;TZID=Europe/Helsinki:20201115T090000
DTEND;TZID=Europe/Helsinki:20201115T160000
DTSTAMP:20260424T080324
CREATED:20200824T100017Z
LAST-MODIFIED:20200824T100017Z
UID:2181-1605430800-1605456000@www.rosebanksundaymarket.co.za
SUMMARY:Rosebank Sunday Market
DESCRIPTION:
URL:http://www.rosebanksundaymarket.co.za/events/rosebank-sunday-market-26/
LOCATION:Rosebank Sunday Market\, 29 Oxford Rd\, Rosebank\, \, Johannesburg\, Gauteng\, 2196\, South Africa
END:VEVENT
END:VCALENDAR